BEGIN:VCALENDAR
VERSION:2.0
PRODID:-// - ECPv6.15.20//NONSGML v1.0//EN
CALSCALE:GREGORIAN
METHOD:PUBLISH
X-ORIGINAL-URL:https://hsv-erwitte.de
X-WR-CALDESC:Veranstaltungen für 
REFRESH-INTERVAL;VALUE=DURATION:PT1H
X-Robots-Tag:noindex
X-PUBLISHED-TTL:PT1H
BEGIN:VTIMEZONE
TZID:UTC
BEGIN:STANDARD
TZOFFSETFROM:+0000
TZOFFSETTO:+0000
TZNAME:UTC
DTSTART:20190101T000000
END:STANDARD
END:VTIMEZONE
BEGIN:VEVENT
DTSTART;VALUE=DATE:20251122
DTEND;VALUE=DATE:20251123
DTSTAMP:20260421T160354
CREATED:20250902T110949Z
LAST-MODIFIED:20250923T183300Z
UID:2171-1763769600-1763855999@hsv-erwitte.de
SUMMARY:Kreisschützenball Brilon 2025
DESCRIPTION:Am 22.11.2025 möchten wir gerne mit Euch zusammen zum Kreisschützenball in Brilon und dort einen grandiosen Tag verbringen. Wir hoffen auf gute Beteiligung und freuen uns falls ihr neue Gesichter mitbringen wollt. Weiter Infos folgen über WhatsApp oder social Media. 
URL:https://hsv-erwitte.de/event/kreisschuetzenball-brilon-2025/
LOCATION:Schützenhalle Brilon
END:VEVENT
BEGIN:VEVENT
DTSTART;VALUE=DATE:20251115
DTEND;VALUE=DATE:20251116
DTSTAMP:20260421T160354
CREATED:20250902T105104Z
LAST-MODIFIED:20250902T105104Z
UID:2160-1763164800-1763251199@hsv-erwitte.de
SUMMARY:Generalversammlung mit Rechnungslage 2025
DESCRIPTION:Traditionsgemäß findet am 15.11.2025\, den Tag vorm Volkstrauertag\, unsere Generalversammlung mit Rechnungslage statt. \n\n\nDie Tagesordnung wird noch bekannt gegeben. \nWir freuen uns natürlich über jede Menge neue Mitglieder. \nWenn du fragen hast\, dann sprich uns bitte an!
URL:https://hsv-erwitte.de/event/generalversammlung-mit-rechnungslage-2025/
LOCATION:Hellweghalle\, Zur Hellweghalle\, Erwitte\, 59597\, Deutschland
END:VEVENT
BEGIN:VEVENT
DTSTART;VALUE=DATE:20250928
DTEND;VALUE=DATE:20250929
DTSTAMP:20260421T160354
CREATED:20250902T111431Z
LAST-MODIFIED:20250902T111431Z
UID:2174-1759017600-1759017600@hsv-erwitte.de
SUMMARY:Stadtschützenfest Erwitte 2025
DESCRIPTION:Am 28. 09.2025 findet in Erwitte das Stadtschützenfest im Rahmen des Stadtjubiläums der Stadt Erwitte statt. Dazu freuen wir uns mir euch gemeinsam in Uniform anzutreten und einen tollen Tag miteinander zu verbringen. Weiter Infos kommen über WhatsApp oder social Media.
URL:https://hsv-erwitte.de/event/stadtschuetzenfest-erwitte-2025/
END:VEVENT
BEGIN:VEVENT
DTSTART;VALUE=DATE:20250920
DTEND;VALUE=DATE:20250921
DTSTAMP:20260421T160354
CREATED:20250902T105931Z
LAST-MODIFIED:20250902T105931Z
UID:2163-1758326400-1758412799@hsv-erwitte.de
SUMMARY:Ausmarsch Bundesschützenfest 2025 in Menden-Bösperde
DESCRIPTION:Wir freuen uns am Bundesschützenfest teilzunehmen. \nAusrichter ist der Schützenverein Holzen-Bösperde-Landwehr 1857 e.V. . Gerne nehmen wir in Schützenuniform teil. \nWeitere Informationen folgen natürlich über Whatsapp in der HSV Schützengruppe und über die sozialen Medien. \n  \nNeue Schützenbrüder sind natürlich gerne gesehen. 🙂 Wir freuen uns auf einen tollen Saisonabschluss mit DIR!
URL:https://hsv-erwitte.de/event/ausmarsch-bundesschuetzenfest-2025-in-menden-boesperde/
LOCATION:Menden-Bösperde
END:VEVENT
BEGIN:VEVENT
DTSTART;VALUE=DATE:20241116
DTEND;VALUE=DATE:20241117
DTSTAMP:20260421T160354
CREATED:20240308T121641Z
LAST-MODIFIED:20240308T123123Z
UID:2092-1731715200-1731801599@hsv-erwitte.de
SUMMARY:Generalversammlung mit Rechnungslage 2024
DESCRIPTION:Traditionsgemäß findet am 16.11.2024\, den Tag vorm Volkstrauertag\, unsere Generalversammlung mit Rechnungslage statt.\n\n\nDie Tagesordnung wird noch bekannt gegeben. \nWir freuen uns natürlich über jede Menge neue Mitglieder. \nWenn du fragen hast\, dann sprich uns bitte an!
URL:https://hsv-erwitte.de/event/ausmarsch-kreisschuetzenfest-2024-in-herringhausen-hellinghausen/
LOCATION:Hellweghalle Erwitte
END:VEVENT
BEGIN:VEVENT
DTSTART;VALUE=DATE:20240914
DTEND;VALUE=DATE:20240917
DTSTAMP:20260421T160354
CREATED:20240308T123819Z
LAST-MODIFIED:20240308T123819Z
UID:2097-1726272000-1726531199@hsv-erwitte.de
SUMMARY:Ausmarsch Kreisschützenfest 2024 in Herringhausen-Hellinghausen
DESCRIPTION:Wir freuen uns am Kreisschützenfest teilzunehmen. \nAusrichter ist der Schützenverein Herringhausen-Hellinghausen. Gerne nehmen wir in Schützenuniform teil. \nWeitere Informationen folgen natürlich über whatsapp in der HSV Schützengruppe und über die sozialen Medien. \n  \nNeue Schützenbrüder sind natürlich gerne gesehen. 🙂 Wir freuen uns auf einen tollen Saisonabschluss mit DIR!
URL:https://hsv-erwitte.de/event/ausmarsch-kreisschuetzenfest-2024-in-herringhausen-hellinghausen-2/
END:VEVENT
BEGIN:VEVENT
DTSTART;VALUE=DATE:20240907
DTEND;VALUE=DATE:20240908
DTSTAMP:20260421T160354
CREATED:20240308T124857Z
LAST-MODIFIED:20240308T125755Z
UID:2103-1725667200-1725753599@hsv-erwitte.de
SUMMARY:Kleinkaliberschießen 2024
DESCRIPTION:Am 7.09.2024 findet unser alljährliches Kleinkaliberschießen statt. Wir wollen die neuen Vereinsmeister finden!\n \nWir werden dann gemeinsam nach Völlinghausen zum Schießstand mit dem Fahrrad fahren.\nFür das leibliche Wohl ist natürlich gesorgt!\n \nIm Anschluss wollen wir den Tag auf dem Schützenfest in Horn ausklingen lassen.\nGerne dürft ihr noch Freunde mitbringen\, die den Handwerker Schützenverein etwas näher kennenlernen möchten.\n \nDie genaue Uhrzeit und der Treffpunkt werden vorher noch bekannt gegeben.\n \nWir freuen uns auf einen tollen Nachmittag beim HSV!
URL:https://hsv-erwitte.de/event/kleinkaliberschiessen-2024/
END:VEVENT
BEGIN:VEVENT
DTSTART;VALUE=DATE:20240713
DTEND;VALUE=DATE:20240716
DTSTAMP:20260421T160354
CREATED:20240308T124405Z
LAST-MODIFIED:20240308T124520Z
UID:2101-1720828800-1721087999@hsv-erwitte.de
SUMMARY:Handwerkerschützenfest 2024
DESCRIPTION:Nach dem grandiosen Schützenfest 2023 freuen wir uns\, dieses Jahr das Handwerkerschützenfest vom 13.07.224 bis zum 15.07.2024 traditionell in der Hellweghalle ausführen zu dürfen. Tragt euch den Termin schon einmal in den Kalender ein\, um mit der Handwerkerschützenfamilie wieder drei unvergessliche Tage zu feiern. Am Schützenfest Montag findet das Jungschützenkönigs- sowie Adlerkönigsschießen traditionell statt. Nähere Infos bezüglich der Festfolge etc. folgen.
URL:https://hsv-erwitte.de/event/handwerkerschuetzenfest-2024/
END:VEVENT
BEGIN:VEVENT
DTSTART;VALUE=DATE:20240706
DTEND;VALUE=DATE:20240707
DTSTAMP:20260421T160354
CREATED:20240308T124044Z
LAST-MODIFIED:20240308T124441Z
UID:2099-1720224000-1720310399@hsv-erwitte.de
SUMMARY:Vorexerzieren 2024
DESCRIPTION:Bevor unser Schützenfest am 13.07.2024 bis 15.07.2024 losgeht\, ist eine Woche vorher am Samstag\, den 06.07.2024 der Termin für das anstehende Vorexerzieren geplant. Dazu laden wir herzlich in die Hellweghalle ein\, bringt bitte euren Spazierstock\, gute Laune\, Durst und auch gerne Freunde und Verwandte mit um den Handwerkerschützenverein kennenzulernen.
URL:https://hsv-erwitte.de/event/vorexerzieren-2024/
END:VEVENT
BEGIN:VEVENT
DTSTART;VALUE=DATE:20240608
DTEND;VALUE=DATE:20240609
DTSTAMP:20260421T160354
CREATED:20240308T125700Z
LAST-MODIFIED:20240308T125700Z
UID:2106-1717804800-1717891199@hsv-erwitte.de
SUMMARY:Stadtschützentreffen Erwitte 2024
DESCRIPTION:Am 08.06.2024 steht das Stadtschützentreffen in Erwitte statt. Schon jetzt freuen wir uns dieses Event gemeinsam mit unseren Brüdervereinen durchführen zu dürfen. \nWeitere Infos werden Folgen
URL:https://hsv-erwitte.de/event/stadtschuetzentreffen-erwitte-2024/
END:VEVENT
BEGIN:VEVENT
DTSTART;TZID=UTC:20231118T190000
DTEND;TZID=UTC:20231118T233000
DTSTAMP:20260421T160354
CREATED:20230803T142252Z
LAST-MODIFIED:20230803T142252Z
UID:2048-1700334000-1700350200@hsv-erwitte.de
SUMMARY:Generalversammlung mit Rechnungslage 2023
DESCRIPTION:Traditionsgemäß findet am 18.11.2023\, den Tag vorm Volkstrauertag\, unsere Generalversammlung mit Rechnungslage statt. \nDie Tagesordnung wird noch bekannt gegeben. \nWir freuen uns natürlich über jede Menge neue Mitglieder. \nWenn du fragen hast\, dann sprich uns bitte an!
URL:https://hsv-erwitte.de/event/generalversammlung-mit-rechnungslage-2023/
LOCATION:Hellweghalle\, Zur Hellweghalle\, Erwitte\, 59597\, Deutschland
END:VEVENT
BEGIN:VEVENT
DTSTART;VALUE=DATE:20230916
DTEND;VALUE=DATE:20230918
DTSTAMP:20260421T160354
CREATED:20230803T141208Z
LAST-MODIFIED:20230803T141856Z
UID:2042-1694822400-1694995199@hsv-erwitte.de
SUMMARY:Ausmarsch Kreisschützenfest 2023 in Effeln
DESCRIPTION:Wir freuen uns nach der Corona Pandemie am ersten „reguläre“ Kreisschützenfest teilzunehmen. \nAusrichter ist der Schützenverein Effeln. Gerne nehmen wir an beiden Tagen in Schützenuniform teil. \nWeitere Informationen folgen natürlich über whatsapp in der HSV Schützengruppe und über die sozialen Medien. \nSamstag\, 16.09.2023 / Königsschießen und Jungschützenparty \nAbfahrt: 11:45 Uhr am Markt für alle Schützenbrüder der Jungschützenkompanie \nRückfahrt: 20:30 Uhr \nSonntag\, 17.09.2023 / Festumzug und anschließend Umtrunk im Zelt \nAbfahrt: 11:15 Uhr am Markt für alle Schützenbrüder der Jungschützenkompanie (Bitte pünktlich sein!) \n1. Rückfahrt: 19:30 Uhr \n2. Rückfahrt: 19:30 Uhr \nNeue Schützenbrüder sind natürlich gerne gesehen. 🙂 Wir freuen uns auf einen tollen Saisonabschluss mit DIR!
URL:https://hsv-erwitte.de/event/ausmarsch-kreisschuetzenfest-2023-in-effeln/
LOCATION:Effeln
CATEGORIES:Tradition
END:VEVENT
BEGIN:VEVENT
DTSTART;VALUE=DATE:20230506
DTEND;VALUE=DATE:20230509
DTSTAMP:20260421T160354
CREATED:20230121T104419Z
LAST-MODIFIED:20230121T183256Z
UID:1958-1683331200-1683590399@hsv-erwitte.de
SUMMARY:Handwerkerschützenfest  mit Kaiserschießen 2023
DESCRIPTION:Nach dem erfolgreichen Jubiläumsschützenfest 2022 freuen wir uns\, dieses Jahr das Handwerkerschützenfest vom 06.05.2023 bis zum 08.05.2023 traditionell in der Hellweghalle ausführen zu dürfen. Tragt euch den Termin schon einmal in den Kalender ein\, um mit der Handwerkerschützenfamilie wieder drei unvergessliche Tage zu feiern. Am Schützenfest Sonntag ist das Kaiserschießen geplant\, das Jungschützenkönigs- sowie Adlerkönigsschießen findet traditionell am Montag statt. Nähere Infos bezüglich der Festfolge etc. folgen.
URL:https://hsv-erwitte.de/event/handwerkerschuetzenfest-2023/
LOCATION:Hellweghalle\, Zur Hellweghalle\, Erwitte\, 59597\, Deutschland
END:VEVENT
BEGIN:VEVENT
DTSTART;VALUE=DATE:20230430
DTEND;VALUE=DATE:20230501
DTSTAMP:20260421T160354
CREATED:20230121T143922Z
LAST-MODIFIED:20230121T143922Z
UID:1967-1682812800-1682899199@hsv-erwitte.de
SUMMARY:Vorexerzieren 2023
DESCRIPTION:Bevor unser Schützenfest am 06.05.2023 bis 08.05.2023 losgeht\, ist eine Woche vorher am Sonntag\, den 30.04.23 der Termin für das anstehende Vorexerzieren geplant. Dazu laden wir herzlich in die Hellweghalle ein\, bringt bitte euren Spazierstock\, gute Laune\, Durst und auch gerne Freunde und Verwandte mit um den Handwerkerschützenverein kennenzulernen.
URL:https://hsv-erwitte.de/event/vorexerzieren-2023/
LOCATION:Hellweghalle\, Zur Hellweghalle\, Erwitte\, 59597\, Deutschland
END:VEVENT
BEGIN:VEVENT
DTSTART;VALUE=DATE:20230221
DTEND;VALUE=DATE:20230222
DTSTAMP:20260421T160354
CREATED:20230116T162703Z
LAST-MODIFIED:20230116T162742Z
UID:1954-1676937600-1677023999@hsv-erwitte.de
SUMMARY:Würstesammeln 2023
DESCRIPTION:Traditionell findet am Veilchendienstag\, 21.02.2023 das Würstesammeln statt. Zum ersten Mal nach der Corona Pandemie. \nDie Jungschützen treffen sich dazu um 8:00 Uhr morgens bei Marx Wirtschaft um durch Erwitte zu ziehen und die Würstchen zu sammeln.  \nUm 17:30 Uhr beginnt das gemeinsame Würsteessen in der Hellweghalle. Im Anschluss ist Party mit DJ Ralfi und DJ Nopse.  \nWir freuen uns einen ereignisreichen Tag mit euch! 
URL:https://hsv-erwitte.de/event/wuerstesammeln-2023/
LOCATION:Hellweghalle\, Zur Hellweghalle\, Erwitte\, 59597\, Deutschland
END:VEVENT
BEGIN:VEVENT
DTSTART;TZID=UTC:20221112T200000
DTEND;TZID=UTC:20221112T223000
DTSTAMP:20260421T160354
CREATED:20220922T170137Z
LAST-MODIFIED:20220922T170137Z
UID:1943-1668283200-1668292200@hsv-erwitte.de
SUMMARY:Generalversammlung mit Rechnungslage
DESCRIPTION:
URL:https://hsv-erwitte.de/event/generalversammlung-mit-rechnungslage/
LOCATION:Hellweghalle\, Zur Hellweghalle\, Erwitte\, 59597\, Deutschland
END:VEVENT
BEGIN:VEVENT
DTSTART;TZID=UTC:20221105T193000
DTEND;TZID=UTC:20221105T233000
DTSTAMP:20260421T160354
CREATED:20220922T165842Z
LAST-MODIFIED:20220922T165913Z
UID:1941-1667676600-1667691000@hsv-erwitte.de
SUMMARY:Festball 100 Jahre Hellweghalle
DESCRIPTION:Wir feiern den 100. Geburtstag unseres „Wohnzimmers“ Hellweghalle. \nGemeinsam haben die drei Erwitter Schützenvereine einen festlichen Ball organisiert. \nEingeladen sind alle Erwitter Vereine und alle die gerne in der Hellweghalle feiern!
URL:https://hsv-erwitte.de/event/festball-100-jahre-hellweghalle/
LOCATION:Hellweghalle\, Zur Hellweghalle\, Erwitte\, 59597\, Deutschland
END:VEVENT
BEGIN:VEVENT
DTSTART;TZID=UTC:20220910T140000
DTEND;TZID=UTC:20220910T210000
DTSTAMP:20260421T160354
CREATED:20220801T141915Z
LAST-MODIFIED:20220801T141915Z
UID:1907-1662818400-1662843600@hsv-erwitte.de
SUMMARY:Kleinkaliberschießen 2022
DESCRIPTION:Am 10.09.2022 findet unser alljährliches Kleinkaliberschießen statt. Wir wollen die neuen Vereinsmeister finden!\n \nTreffpunkt ist um 14:00 Uhr auf dem Erwitter Marktplatz.\nWir werden dann gemeinsam nach Völlinghausen zum Schießstand mit dem Fahrrad fahren.\nFür das leibliche Wohl ist natürlich gesorgt!\n \nIm Anschluss wollen wir den Tag auf dem Schützenfest in Horn ausklingen lassen.\nGerne dürft ihr noch Freunde mitbringen\, die den Handwerker Schützenverein etwas näher kennenlernen möchten.\n \nWir freuen uns auf einen tollen Nachmittag beim HSV!
URL:https://hsv-erwitte.de/event/kleinkaliberschiessen-2022/
LOCATION:Völlinghausen Schießstand\, Kliever Str. 31\, Erwitte\, 59597\, Deutschland
END:VEVENT
BEGIN:VEVENT
DTSTART;VALUE=DATE:20220709
DTEND;VALUE=DATE:20220712
DTSTAMP:20260421T160354
CREATED:20211122T184159Z
LAST-MODIFIED:20220625T072956Z
UID:1878-1657324800-1657583999@hsv-erwitte.de
SUMMARY:Handwerker Jubiläumsschützenfest 2022
DESCRIPTION:Nach vielen Jahren der Vorbereitung können wir endlich unser Jubiläumsschützenfest aus dem Jahr 2020 nachholen. \nWir feiern vom Samstag\, 09.07.2022 bis Montag 11.07.2022 \nDas besondere Highlight ist der Jubiläumsschützenfest Sonntag mit vielen Gastvereinen und den Innungsfahnen der Kreishandwerkerschaft. \nFestfolge \nSamstag\, 09. Juli 2022 \n13:00 Uhr      Generalmarsch des Tambourcorps Erwitte\n13:30 Uhr      Antreten der Jungschützenkompanie an der Hellweghalle\n13:40 Uhr      Bekanntgabe der Festparolen\n13:55 Uhr      Abmarsch zum Darbringen der Ständchen\n17:00 Uhr     Antreten der Ehrenkompanie beim Königspaar im Möwenweg 18\n19:00 Uhr      Kranzniederlegung und Großer Zapfenstreich auf dem Marktplatz\, im Anschluss Abmarsch zur Hellweghalle \n   Sonntag\, 10. Juli 2022 \n10:30 Uhr      Schützenhochamt\n12:00 Uhr      Musikalischer Frühschoppen im Schlosspark für alle Schützenbrüder und Besucher aus nah und fern\n13:00 Uhr      Antreten der Jungschützen im Schlosspark\n                     Antreten der Ehrenkompanie beim Adlerkönig\, an der Friedenseiche\n13:15 Uhr      Antreten der Gastvereine\, sowie Ehrengäste am Schlosspark\n15:00 Uhr      Großer Festakt auf dem Schlossgelände\n16:00 Uhr      Großer Festzug mit allen Gastvereinen zur Hellweghalle\n18:00 Uhr      Kindertanz\, anschließend Königstanz\n20:00 Uhr      Großer Jubiläumsfestball in der Hellweghalle mit DJ Ralfi\n22:00 Uhr      Hofdamentanz \nMontag\, 11. Juli 2022 \n06:00 Uhr      Weckruf des Tambourcorps Erwitte\n08:15 Uhr      Antreten des Schützenbataillons auf dem Marktplatz\n09:00 Uhr      Großes Frühstück für alle Schützen\, Majestäten\, ehemaligen Königinnen und Hofdamen\n10:00 Uhr      Gleichzeitiges Königs- und Adlerkönigsschießen an der Hellweghalle\n13:30 Uhr      Krönung der neuen Majestäten\n17:00 Uhr      Antreten der Jungschützenkompanie auf dem Marktplatz\nAntreten der Ehrenkompanie beim neuen Adlerkönig\n18:30 Uhr      Festakt auf dem Marktplatz\, sowie großer Festzug zur Hellweghalle\n19:30 Uhr      Königstanz\n20:30 Uhr      Großer Jubiläumsfestball in der Hellweghalle mit DJ Ralfi\n22:00 Uhr      Hofdamentanz
URL:https://hsv-erwitte.de/event/handwerker-schuetzenfest-2022/
END:VEVENT
BEGIN:VEVENT
DTSTART;TZID=UTC:20220611T150000
DTEND;TZID=UTC:20220611T200000
DTSTAMP:20260421T160354
CREATED:20220521T150631Z
LAST-MODIFIED:20220521T150631Z
UID:1891-1654959600-1654977600@hsv-erwitte.de
SUMMARY:Vereinsausflug Jungschützenkompanie 2022
DESCRIPTION:Am 11.06.2022 findet der Vereinausflug der Jungschützenkompanie\, zusammen mit den Hofdamen statt. \nTreffpunkt: 15:00 Uhr Marktplatz \nAbfahrt: 15:30 Uhr \nAusflugsziel: Gasthof „zur Schwalbe“ in Öchtringhausen zum Vogelschießen. \nRückfahrt: 19:00 Uhr \nIm Anschluss besuchen wir das Schützenfest in Stirpe!
URL:https://hsv-erwitte.de/event/vereinsausflug-jungschuetzenkompanie-2022/
LOCATION:Gasthof zur Schwalbe\, Öchtringhauser Str. 141\, Lippstadt\, 59558\, Deutschland
END:VEVENT
BEGIN:VEVENT
DTSTART;TZID=UTC:20211113T193000
DTEND;TZID=UTC:20211113T233000
DTSTAMP:20260421T160354
CREATED:20211103T080412Z
LAST-MODIFIED:20211103T080412Z
UID:1868-1636831800-1636846200@hsv-erwitte.de
SUMMARY:Generalversammlung 2021
DESCRIPTION:  \nLiebe Schützenbrüder\, \nLiebe Mitglieder\, \nLiebe Interessierte \nhiermit laden wir euch zur diesjährigen Generalversammlung mit Rechnungslage in der Hellweghalle ein. \nDie Tagesordnung zur Generalversammlung mit Rechnungslage zu den Geschäftsjahren 2020 und 2021: \n\nBegrüßung\nTotenehrung\nAufnahme neuer Mitglieder\nBeschlussfassung Schützenfest 2022\nJahresbericht 2020 / 2021\nGeschäfts- und Kassenbericht 2020 / 2021\nVorstandsneuwahlen\nVerschiedenes\n\n 2021
URL:https://hsv-erwitte.de/event/generalversammlung-2021/
LOCATION:Hellweghalle\, Zur Hellweghalle\, Erwitte\, 59597\, Deutschland
END:VEVENT
BEGIN:VEVENT
DTSTART;VALUE=DATE:20210814
DTEND;VALUE=DATE:20210815
DTSTAMP:20260421T160354
CREATED:20210607T175741Z
LAST-MODIFIED:20210607T175741Z
UID:1865-1628899200-1628985599@hsv-erwitte.de
SUMMARY:Kleinkaliberschießen 2021
DESCRIPTION:Haltet euch den Termin frei\, weitere Infos folgen demnächst!
URL:https://hsv-erwitte.de/event/kleinkaliberschiessen-2021/
LOCATION:Völlinghausen Schießstand\, Kliever Str. 31\, Erwitte\, 59597\, Deutschland
CATEGORIES:Tradition
END:VEVENT
BEGIN:VEVENT
DTSTART;VALUE=DATE:20200225
DTEND;VALUE=DATE:20200226
DTSTAMP:20260421T160354
CREATED:20200210T162431Z
LAST-MODIFIED:20200210T172442Z
UID:1606-1582588800-1582675199@hsv-erwitte.de
SUMMARY:Würstesammeln 2020
DESCRIPTION:Um 08:30 Uhr trifft sich die Jungschützenkompanie bei Marx\, um im Anschluss in kleinen Gruppen durch die Stadt zuziehen und die Wurstenspenden einzusammeln. \nUm 18:00 Uhr findet dann das gemeinsame Würsteessen in der Hellweghalle statt. Wieder gemeinschaftlich mit dem Junggesellen-Schützenverein 1726 e.V. \n  \n 
URL:https://hsv-erwitte.de/event/wuerstesammeln/
LOCATION:Würstesammeln 2020\, Erwitte\, 59597\, Deutschland
CATEGORIES:Tradition
END:VEVENT
END:VCALENDAR